BEGIN:VCALENDAR
VERSION:2.0
PRODID:-//Peter Howell Neighborhood Association - ECPv6.15.17.1//NONSGML v1.0//EN
CALSCALE:GREGORIAN
METHOD:PUBLISH
X-WR-CALNAME:Peter Howell Neighborhood Association
X-ORIGINAL-URL:https://www.peterhowell.org
X-WR-CALDESC:Events for Peter Howell Neighborhood Association
REFRESH-INTERVAL;VALUE=DURATION:PT1H
X-Robots-Tag:noindex
X-PUBLISHED-TTL:PT1H
BEGIN:VTIMEZONE
TZID:America/Phoenix
BEGIN:STANDARD
TZOFFSETFROM:-0700
TZOFFSETTO:-0700
TZNAME:MST
DTSTART:20200101T000000
END:STANDARD
END:VTIMEZONE
BEGIN:VEVENT
DTSTART;TZID=America/Phoenix:20240508T180000
DTEND;TZID=America/Phoenix:20240508T190000
DTSTAMP:20260419T224456
CREATED:20240501T205302Z
LAST-MODIFIED:20240507T161215Z
UID:2832-1715191200-1715194800@www.peterhowell.org
SUMMARY:PHNA Board Meeting
DESCRIPTION:PHNA Board Meeting\nWed May 8\, 2024 – 6:00 PM\nZoom – to request link\, please\nemail phnaemail@gmail.com \nAgenda
URL:https://www.peterhowell.org/event/phna-board-meeting-29/
CATEGORIES:Neighborhood Events
END:VEVENT
BEGIN:VEVENT
DTSTART;TZID=America/Phoenix:20240420T110000
DTEND;TZID=America/Phoenix:20240420T150000
DTSTAMP:20260419T224456
CREATED:20240111T203834Z
LAST-MODIFIED:20240111T203834Z
UID:2669-1713610800-1713625200@www.peterhowell.org
SUMMARY:Alvernon Park Picnic
DESCRIPTION:The event starts at 11:00 AM with a short neighborhood meeting followed by plenty of picnic time with fun for kids (Ready\, Set\, Rec van)\, table displays\, pot luck\, food trucks and friendly neighbors.
URL:https://www.peterhowell.org/event/alvernon-park-picnic/
LOCATION:Alvernon Park\, 701 N. Longfellow Ave\, Tucson\, AZ\, 85711\, United States
CATEGORIES:Neighborhood Events
END:VEVENT
BEGIN:VEVENT
DTSTART;TZID=America/Phoenix:20240313T180000
DTEND;TZID=America/Phoenix:20240313T190000
DTSTAMP:20260419T224456
CREATED:20240111T190148Z
LAST-MODIFIED:20240111T190243Z
UID:2656-1710352800-1710356400@www.peterhowell.org
SUMMARY:PHNA Board Meeting
DESCRIPTION:Online – If interested in attending the online meeting\, please email us at phnaemail@gmail.com for connection information.
URL:https://www.peterhowell.org/event/phna-board-meeting-28/
CATEGORIES:Neighborhood Events
END:VEVENT
BEGIN:VEVENT
DTSTART;TZID=America/Phoenix:20240212T080000
DTEND;TZID=America/Phoenix:20240216T170000
DTSTAMP:20260419T224456
CREATED:20240111T204836Z
LAST-MODIFIED:20240111T204836Z
UID:2671-1707724800-1708102800@www.peterhowell.org
SUMMARY:Brush & Bulky Pickup
DESCRIPTION:Twice a year\, crews visit each of Tucson’s 26 residential trash service areas to provide Brush & Bulky+ collection. This is your opportunity to clean out your yard\, garage or storage shed and get rid of that unwanted debris. \nTucson Brush & Bulky \n 
URL:https://www.peterhowell.org/event/brush-bulky-pickup/
CATEGORIES:Neighborhood Events
END:VEVENT
BEGIN:VEVENT
DTSTART;TZID=America/Phoenix:20240110T180000
DTEND;TZID=America/Phoenix:20240110T190000
DTSTAMP:20260419T224456
CREATED:20231109T040556Z
LAST-MODIFIED:20231109T040556Z
UID:2589-1704909600-1704913200@www.peterhowell.org
SUMMARY:PHNA Board Meeting
DESCRIPTION:Online – If interested in attending the online meeting\, please email us at phnaemail@gmail.com for connection information. \n 
URL:https://www.peterhowell.org/event/phna-board-meeting-27/
CATEGORIES:Neighborhood Events
END:VEVENT
BEGIN:VEVENT
DTSTART;TZID=America/Phoenix:20231108T180000
DTEND;TZID=America/Phoenix:20231108T190000
DTSTAMP:20260419T224456
CREATED:20231028T153111Z
LAST-MODIFIED:20231104T183515Z
UID:2552-1699466400-1699470000@www.peterhowell.org
SUMMARY:PHNA Board Meeting
DESCRIPTION:Online – If interested in attending the online meeting\, please email us at phnaemail@gmail.com for connection information. \nAgenda
URL:https://www.peterhowell.org/event/phna-board-meeting-26/
CATEGORIES:Neighborhood Events
END:VEVENT
BEGIN:VEVENT
DTSTART;TZID=America/Phoenix:20231028T160000
DTEND;TZID=America/Phoenix:20231028T200000
DTSTAMP:20260419T224456
CREATED:20230923T182732Z
LAST-MODIFIED:20230926T045737Z
UID:2465-1698508800-1698523200@www.peterhowell.org
SUMMARY:Peter Howell Halloween Parade
DESCRIPTION:Please join your neighbors on Saturday\, October 28th for our annual Halloween parade! Gather in the park near the playground at 4:00\, and join the parade at 4:30. The route this year is slightly longer but should only take about 30 minutes to complete. At the conclusion\, hang around the park and enjoy dinner from food trucks. \n2023 Halloween Parade Route \n \n 
URL:https://www.peterhowell.org/event/peter-howell-halloween-parade/
LOCATION:Alvernon Park\, 701 N. Longfellow Ave\, Tucson\, AZ\, 85711\, United States
CATEGORIES:Neighborhood Events
END:VEVENT
BEGIN:VEVENT
DTSTART;TZID=America/Phoenix:20231021T110000
DTEND;TZID=America/Phoenix:20231021T140000
DTSTAMP:20260419T224456
CREATED:20230923T182340Z
LAST-MODIFIED:20230923T182340Z
UID:2463-1697886000-1697896800@www.peterhowell.org
SUMMARY:PHNA Annual Meeting
DESCRIPTION:
URL:https://www.peterhowell.org/event/phna-annual-meeting-4/
LOCATION:Alvernon Park\, 701 N. Longfellow Ave\, Tucson\, AZ\, 85711\, United States
CATEGORIES:Neighborhood Events
END:VEVENT
BEGIN:VEVENT
DTSTART;TZID=America/Phoenix:20230913T180000
DTEND;TZID=America/Phoenix:20230913T193000
DTSTAMP:20260419T224456
CREATED:20230825T190940Z
LAST-MODIFIED:20230912T031457Z
UID:2388-1694628000-1694633400@www.peterhowell.org
SUMMARY:PHNA Board Meeting
DESCRIPTION:Special attention will be given to ongoing problems related to unhoused persons at Speedway/Alvernon\, along and behind Alvernon Way and in Alvernon Park. Police representatives will be invited to the online session. \nZoom only. If interested in attending the online meeting\, please email us at phnaemail@gmail.com for connection information no later than 9.13.23. A link will be shared the day before the meeting. \nAgenda
URL:https://www.peterhowell.org/event/phna-board-meeting-25/
CATEGORIES:Neighborhood Events
END:VEVENT
BEGIN:VEVENT
DTSTART;TZID=America/Phoenix:20230816T180000
DTEND;TZID=America/Phoenix:20230816T193000
DTSTAMP:20260419T224456
CREATED:20230805T223953Z
LAST-MODIFIED:20230817T000233Z
UID:2357-1692208800-1692214200@www.peterhowell.org
SUMMARY:PHNA Board Meeting
DESCRIPTION:Peter Howell School Library meeting location cancelled.  Zoom only. \nIf interested in attending the online meeting\, please email us at phnaemail@gmail.com for connection information no later than 8.15.23. Link will be shared the day before the meeting. \nMeeting cancelled due to several conflicts \n 
URL:https://www.peterhowell.org/event/phna-board-meeting-24/
CATEGORIES:Neighborhood Events
END:VEVENT
BEGIN:VEVENT
DTSTART;TZID=America/Phoenix:20230607T180000
DTEND;TZID=America/Phoenix:20230607T193000
DTSTAMP:20260419T224456
CREATED:20221115T032853Z
LAST-MODIFIED:20230603T222633Z
UID:2023-1686160800-1686166200@www.peterhowell.org
SUMMARY:PHNA Board Meeting
DESCRIPTION:Agenda \n\n 
URL:https://www.peterhowell.org/event/phna-board-meeting-22/
CATEGORIES:Neighborhood Events
END:VEVENT
BEGIN:VEVENT
DTSTART;TZID=America/Phoenix:20230423T110000
DTEND;TZID=America/Phoenix:20230423T150000
DTSTAMP:20260419T224456
CREATED:20230205T185243Z
LAST-MODIFIED:20230210T215136Z
UID:2131-1682247600-1682262000@www.peterhowell.org
SUMMARY:Neighborhood Meeting and Picnic
DESCRIPTION:A Neighborhood Meeting and Picnic is planned for Sunday April 23 11 AM at Alvernon Park. \nThe Ready\, Set\, Rec! van from Tucson Parks & Recreation will be joining us and maybe food trucks too. \nSave the Date !
URL:https://www.peterhowell.org/event/neighborhood-meeting-and-picnic/
LOCATION:Alvernon Park\, 701 N. Longfellow Ave\, Tucson\, AZ\, 85711\, United States
CATEGORIES:Neighborhood Events
END:VEVENT
BEGIN:VEVENT
DTSTART;TZID=America/Phoenix:20230405T180000
DTEND;TZID=America/Phoenix:20230405T193000
DTSTAMP:20260419T224456
CREATED:20221115T032741Z
LAST-MODIFIED:20230404T050331Z
UID:2021-1680717600-1680723000@www.peterhowell.org
SUMMARY:PHNA Board Meeting
DESCRIPTION:Virtual meeting will be conducted on ZOOM. \nIf interested in attending the online meeting\, please email us at phnaemail@gmail.com for connection information no later than 4.04.23.  Link will be shared the day before the meeting. \n\nAgenda
URL:https://www.peterhowell.org/event/phna-board-meeting-21/
CATEGORIES:Neighborhood Events
END:VEVENT
BEGIN:VEVENT
DTSTART;TZID=America/Phoenix:20230206T080000
DTEND;TZID=America/Phoenix:20230210T170000
DTSTAMP:20260419T224456
CREATED:20221105T184636Z
LAST-MODIFIED:20221105T190127Z
UID:1981-1675670400-1676048400@www.peterhowell.org
SUMMARY:Brush & Bulky Collection
DESCRIPTION:Twice a year\, crews visit each of Tucson’s 26 residential trash service areas to provide Brush & Bulky+ collection. This is your opportunity\, here in Peter Howell neighborhood\, to clean out your yard\, garage or storage shed and get rid of that unwanted debris . . Have materials set out by 6 a.m. on the Monday of our collection week\, February 6-10.
URL:https://www.peterhowell.org/event/brush-bulky-collection/
LOCATION:Peter Howell Neighborhood\, 5th St & Irving Ave\, Tucson\, AZ\, 85711\, United States
CATEGORIES:Neighborhood Events
END:VEVENT
BEGIN:VEVENT
DTSTART;TZID=America/Phoenix:20230201T180000
DTEND;TZID=America/Phoenix:20230201T193000
DTSTAMP:20260419T224456
CREATED:20221115T032618Z
LAST-MODIFIED:20230131T215319Z
UID:2019-1675274400-1675279800@www.peterhowell.org
SUMMARY:PHNA Board Meeting
DESCRIPTION:Agenda \nIf interested in attending the online meeting\, please email us at phnaemail@gmail.com for connection information no later than 01.31.23. Link will be shared the day before the meeting.
URL:https://www.peterhowell.org/event/phna-board-meeting-20/
CATEGORIES:Neighborhood Events
END:VEVENT
BEGIN:VEVENT
DTSTART;TZID=America/Phoenix:20221207T180000
DTEND;TZID=America/Phoenix:20221207T193000
DTSTAMP:20260419T224456
CREATED:20221115T032430Z
LAST-MODIFIED:20221205T225320Z
UID:2017-1670436000-1670441400@www.peterhowell.org
SUMMARY:PHNA Board Meeting
DESCRIPTION:Agenda \nIf interested in attending the online meeting\, please email us at phnaemail@gmail.com for\nconnection information no later than 12.6.22. Link will be shared the day before the meeting
URL:https://www.peterhowell.org/event/phna-board-meeting-19/
CATEGORIES:Neighborhood Events
END:VEVENT
BEGIN:VEVENT
DTSTART;TZID=America/Phoenix:20221114T183000
DTEND;TZID=America/Phoenix:20221114T193000
DTSTAMP:20260419T224456
CREATED:20221113T182733Z
LAST-MODIFIED:20221113T183218Z
UID:2008-1668450600-1668454200@www.peterhowell.org
SUMMARY:PHNA Board Meeting
DESCRIPTION:Online meeting for Bylaws required items only: \n\nBoard book overview and welcome for new members\nElection of officers\nPassing upon reports from the previous year as necessary\nConflict of interest forms\n\nZoom meeting connection information is available through email to phnaemail@gmail.com. \n 
URL:https://www.peterhowell.org/event/phna-board-meeting-18/
CATEGORIES:Neighborhood Events
END:VEVENT
BEGIN:VEVENT
DTSTART;TZID=America/Phoenix:20221029T160000
DTEND;TZID=America/Phoenix:20221029T180000
DTSTAMP:20260419T224456
CREATED:20220818T225902Z
LAST-MODIFIED:20221020T142027Z
UID:1883-1667059200-1667066400@www.peterhowell.org
SUMMARY:Halloween Parade 2022
DESCRIPTION:The Sol Axe’ (pronounced sol – ah – shay) drum and dance community will again lead a parade of kids in Halloween costumes on Saturday October 29 starting at 4 PM. The starting and ending location will be Alvernon Park at Alhambra. Here is the parade route. \n  \n \nKids and adults have lots of fun with treats along the route. The parade is a neighborhood tradition – please join in\, if only to provide support.
URL:https://www.peterhowell.org/event/halloween-parade-2022/
LOCATION:N. Longfellow Av & E. Alhambra Pl
CATEGORIES:Neighborhood Events
END:VEVENT
BEGIN:VEVENT
DTSTART;TZID=America/Phoenix:20221022T100000
DTEND;TZID=America/Phoenix:20221022T120000
DTSTAMP:20260419T224456
CREATED:20220808T171544Z
LAST-MODIFIED:20221021T034143Z
UID:1869-1666432800-1666440000@www.peterhowell.org
SUMMARY:PHNA Annual Meeting
DESCRIPTION:Please join us for the 2022 Peter Howell Neighborhood Association’s Annual Meeting. We have been unable to meet in person for more than two years so in the name of public safety an outdoor meeting is planned at the most convenient date for PHNA members. Join us in Alvernon Park for fresh air on a Saturday morning – bring a chair if you like. \n\nAgenda \nNew board candidate application forms: New Board Applicant 1\, New Board Applicant 2
URL:https://www.peterhowell.org/event/phna-annual-meeting-3/
LOCATION:Alvernon Park\, 701 N. Longfellow Ave\, Tucson\, AZ\, 85711\, United States
CATEGORIES:Neighborhood Events
END:VEVENT
BEGIN:VEVENT
DTSTART;TZID=America/Phoenix:20220803T180000
DTEND;TZID=America/Phoenix:20220803T193000
DTSTAMP:20260419T224456
CREATED:20220618T163227Z
LAST-MODIFIED:20220730T143437Z
UID:1773-1659549600-1659555000@www.peterhowell.org
SUMMARY:PHNA Board Meeting
DESCRIPTION:Agenda \nIf interested in attending the Zoom meeting\,\nplease email us at phnaemail@gmail.com for connection information.
URL:https://www.peterhowell.org/event/phna-board-meeting-17/
CATEGORIES:Neighborhood Events
END:VEVENT
BEGIN:VEVENT
DTSTART;TZID=America/Phoenix:20220801T080000
DTEND;TZID=America/Phoenix:20220801T170000
DTSTAMP:20260419T224456
CREATED:20211113T230034Z
LAST-MODIFIED:20211113T230953Z
UID:1437-1659340800-1659373200@www.peterhowell.org
SUMMARY:Brush & Bulky Plus
DESCRIPTION:During the week of August 1\, 2022\, Brush & Bulky Plus will come to Peter Howell neighborhood. \nBrush & Bulky will continue collecting materials left at the curb and in alleys PLUS provide additional services when collections occur. \nPLUS SERVICES INCLUDE: \nREMOVAL OF OVERGROWTH AND LITTER IN RIGHTS-OF-WAY AND WASHES\nCLEAN-UP OF ILLEGAL DUMPING\nGRAFFITI REMOVAL\nSTREET SIGN REPAIRS OR REPLACEMENT\nPOTHOLE REPAIR\nSTREET SWEEPING \nhttps://www.tucsonaz.gov/es/brush-and-bulky
URL:https://www.peterhowell.org/event/brush-bulky-plus-2/
CATEGORIES:Neighborhood Events
END:VEVENT
BEGIN:VEVENT
DTSTART;TZID=America/Phoenix:20220618T080000
DTEND;TZID=America/Phoenix:20220618T090000
DTSTAMP:20260419T224456
CREATED:20220603T210302Z
LAST-MODIFIED:20220603T210854Z
UID:1742-1655539200-1655542800@www.peterhowell.org
SUMMARY:Alvernon Park Concept Plan
DESCRIPTION:Tucson Parks and Recreation is ready to present the community surrounding Alvernon Park with the concept plan for the park expansion and walking path. Join us\, in person\, at the park for free coffee and doughnuts to view and discuss the plan.\n\nLocation: Alvernon Park\, 701 N Longfellow Ave \nDate: Saturday\, June 18\, 2022 from 8-9 AM \nThank you\, \nSierra Boyer\, CPRP\nPublic Information Officer\nParks and Recreation  |  City of Tucson
URL:https://www.peterhowell.org/event/alvernon-park-concept-plan/
LOCATION:Alvernon Park\, 701 N. Longfellow Ave\, Tucson\, AZ\, 85711\, United States
CATEGORIES:Neighborhood Events
END:VEVENT
BEGIN:VEVENT
DTSTART;TZID=America/Phoenix:20220601T180000
DTEND;TZID=America/Phoenix:20220601T193000
DTSTAMP:20260419T224456
CREATED:20211202T022111Z
LAST-MODIFIED:20220530T165258Z
UID:1483-1654106400-1654111800@www.peterhowell.org
SUMMARY:PHNA Board Meeting
DESCRIPTION:Agenda \nIf interested in attending the online meeting\, please email us at phnaemail@gmail.com\nfor connection information no later than 5.31.22\nLink will be shared the day before the meeting.
URL:https://www.peterhowell.org/event/phna-board-meeting-16/
CATEGORIES:Neighborhood Events
END:VEVENT
BEGIN:VEVENT
DTSTART;TZID=America/Phoenix:20220406T180000
DTEND;TZID=America/Phoenix:20220406T193000
DTSTAMP:20260419T224456
CREATED:20211202T021856Z
LAST-MODIFIED:20220406T201243Z
UID:1481-1649268000-1649273400@www.peterhowell.org
SUMMARY:PHNA Board Meeting
DESCRIPTION:Online Meeting – if you wish to attend\, please email us at phnaemail@gmail.com for connection information.
URL:https://www.peterhowell.org/event/phna-board-meeting-15/
CATEGORIES:Neighborhood Events
END:VEVENT
BEGIN:VEVENT
DTSTART;TZID=America/Phoenix:20220202T180000
DTEND;TZID=America/Phoenix:20220202T193000
DTSTAMP:20260419T224456
CREATED:20211202T021733Z
LAST-MODIFIED:20220130T222838Z
UID:1479-1643824800-1643830200@www.peterhowell.org
SUMMARY:PHNA Board Meeting
DESCRIPTION:Online Meeting – Agenda \nIf interested in attending the online meeting\, please email us at phnaemail@gmail.com
URL:https://www.peterhowell.org/event/phna-board-meeting-14/
CATEGORIES:Neighborhood Events
END:VEVENT
BEGIN:VEVENT
DTSTART;TZID=America/Phoenix:20220131T080000
DTEND;TZID=America/Phoenix:20220131T170000
DTSTAMP:20260419T224456
CREATED:20211113T225533Z
LAST-MODIFIED:20211113T225823Z
UID:1433-1643616000-1643648400@www.peterhowell.org
SUMMARY:Brush & Bulky Plus
DESCRIPTION:During the week of January 31\, 2022\, Brush & Bulky Plus will come to Peter Howell neighborhood. \nBrush & Bulky will continue collecting materials left at the curb and in alleys PLUS provide additional services when collections occur. \nPLUS SERVICES INCLUDE: \nREMOVAL OF OVERGROWTH AND LITTER IN RIGHTS-OF-WAY AND WASHES\nCLEAN-UP OF ILLEGAL DUMPING\nGRAFFITI REMOVAL\nSTREET SIGN REPAIRS OR REPLACEMENT\nPOTHOLE REPAIR\nSTREET SWEEPING \nhttps://www.tucsonaz.gov/es/brush-and-bulky
URL:https://www.peterhowell.org/event/brush-bulky-plus/
CATEGORIES:Neighborhood Events
END:VEVENT
BEGIN:VEVENT
DTSTART;TZID=America/Phoenix:20211201T180000
DTEND;TZID=America/Phoenix:20211201T193000
DTSTAMP:20260419T224456
CREATED:20211104T022337Z
LAST-MODIFIED:20211130T171656Z
UID:1424-1638381600-1638387000@www.peterhowell.org
SUMMARY:PHNA Board Meeting
DESCRIPTION:If interested in attending the online meeting\, please email us at phnaemail@gmail.com for connection information no later than 11.30.21. \nLink will be shared the day before the meeting. \n\nAgenda
URL:https://www.peterhowell.org/event/phna-board-meeting-13/
CATEGORIES:Neighborhood Events
END:VEVENT
BEGIN:VEVENT
DTSTART;TZID=America/Phoenix:20211103T180000
DTEND;TZID=America/Phoenix:20211103T190000
DTSTAMP:20260419T224456
CREATED:20211101T025545Z
LAST-MODIFIED:20211101T152455Z
UID:1406-1635962400-1635966000@www.peterhowell.org
SUMMARY:PHNA Board Meeting
DESCRIPTION:Agenda \n\nIf interested in attending the online meeting\, please email us at phnaemail@gmail.com for connection information no later than 11.02.21 Link will be shared the day before the meeting.
URL:https://www.peterhowell.org/event/phna-board-meeting-12/
CATEGORIES:Neighborhood Events
END:VEVENT
BEGIN:VEVENT
DTSTART;TZID=America/Phoenix:20211020T180000
DTEND;TZID=America/Phoenix:20211020T193000
DTSTAMP:20260419T224456
CREATED:20210704T182809Z
LAST-MODIFIED:20211014T234641Z
UID:1282-1634752800-1634758200@www.peterhowell.org
SUMMARY:PHNA Annual Meeting
DESCRIPTION:Meeting to be conducted online using Zoom. For connection information\, please email us at  phnaemail@gmail.com. \nTentative Agenda \n1) Welcome and introductions\n2) Approval of minutes from August meeting\n3) Reports\na) Treasurer\nb) Audit Committee\n4) New Business\na) Discussion with Steve Kozachik and Tucson Parks & Rec\ni) Montezuma Street closure results and feedback\nii) Park expansion/improvements discussion\nb) Election Results\n5) COVID 19 Update – Plans for Spring 2022\n6) Call to Audience\n7) Adjournment \n 
URL:https://www.peterhowell.org/event/phna-annual-meeting-2/
LOCATION:TBD
CATEGORIES:Neighborhood Events
END:VEVENT
BEGIN:VEVENT
DTSTART;TZID=America/Phoenix:20210901T180000
DTEND;TZID=America/Phoenix:20210901T193000
DTSTAMP:20260419T224456
CREATED:20210704T182329Z
LAST-MODIFIED:20210812T230625Z
UID:1279-1630519200-1630524600@www.peterhowell.org
SUMMARY:PHNA Board Meeting
DESCRIPTION:Agenda \n\n\nIf interested in attending our video meeting\, please let us know in advance at phnaemail@gmail.com
URL:https://www.peterhowell.org/event/xx/
LOCATION:Peter Howell School\, 401 N Irving Ave\, Tucson\, AZ\, 85711\, United States
CATEGORIES:Neighborhood Events
END:VEVENT
END:VCALENDAR